BEGIN:VCALENDAR
VERSION:2.0
PRODID:-//wp-events-plugin.com//7.2.3.1//EN
TZID:America/New_York
X-WR-TIMEZONE:America/New_York
BEGIN:VEVENT
UID:802@boltonstreet.org
DTSTART;TZID=America/New_York:20260503T103000
DTEND;TZID=America/New_York:20260503T113000
DTSTAMP:20260422T145833Z
URL:https://www.boltonstreet.org/events/baby-brood-may-2026/
SUMMARY:Baby Brood
DESCRIPTION:Baby Brood\nSunday\, May 3 at 10:30am\n\nBaby Brood is a monthl
 y meeting for families with infants/tots 2 years old and younger\, looking
  for a space to connect and grow together in a Jewish environment. It is p
 art of our Young Family Connections program at Bolton Street Synagogue and
  was made possible through funding received from the Jewish Education Enha
 ncement Project\, a grant of the Charles Crane Family Foundation\, and the
  Associated facilitated by Jewish Educational Services.
ATTACH;FMTTYPE=image/jpeg:https://www.boltonstreet.org/wp-content/uploads/
 2026/04/BabyBrood-Web-53.png
CATEGORIES:Family Events,Young Family
END:VEVENT
BEGIN:VTIMEZONE
TZID:America/New_York
X-LIC-LOCATION:America/New_York
BEGIN:DAYLIGHT
DTSTART:20260308T030000
TZOFFSETFROM:-0500
TZOFFSETTO:-0400
TZNAME:EDT
END:DAYLIGHT
END:VTIMEZONE
END:VCALENDAR