BEGIN:VCALENDAR
VERSION:2.0
PRODID:-//wp-events-plugin.com//7.2.3.1//EN
TZID:America/New_York
X-WR-TIMEZONE:America/New_York
BEGIN:VEVENT
UID:798@boltonstreet.org
DTSTART;TZID=America/New_York:20260423T120000
DTEND;TZID=America/New_York:20260423T133000
DTSTAMP:20260420T194932Z
URL:https://www.boltonstreet.org/events/lunch-learn-angels-angels-angels-w
 ith-rabbi-gordon-3/
SUMMARY:Lunch & Learn: Angels\, Angels\, Angels! with Rabbi Gordon
DESCRIPTION:Angels\, Angels\, Angels!\nAdult Education Class with Rabbi And
 y Gordon\n\nThursday\, April 23\n12:00pm – 1:30pm\, in the BSS Library a
 nd on Zoom
ATTACH;FMTTYPE=image/jpeg:https://www.boltonstreet.org/wp-content/uploads/
 2026/04/LunchLearn-Web-23.png
CATEGORIES:Adult Education,Learn with Rabbi Gordon
LOCATION:Bolton Street Synagogue\, 212 West Cold Spring Lane\, Baltimore\, 
 MD\, 21210\, United States
X-APPLE-STRUCTURED-LOCATION;VALUE=URI;X-ADDRESS=212 West Cold Spring Lane\,
  Baltimore\, MD\, 21210\, United States;X-APPLE-RADIUS=100;X-TITLE=Bolton 
 Street Synagogue:geo:0,0
END:VEVENT
BEGIN:VTIMEZONE
TZID:America/New_York
X-LIC-LOCATION:America/New_York
BEGIN:DAYLIGHT
DTSTART:20260308T030000
TZOFFSETFROM:-0500
TZOFFSETTO:-0400
TZNAME:EDT
END:DAYLIGHT
END:VTIMEZONE
END:VCALENDAR