BEGIN:VCALENDAR
VERSION:2.0
PRODID:-//wp-events-plugin.com//7.2.3.1//EN
TZID:America/New_York
X-WR-TIMEZONE:America/New_York
BEGIN:VEVENT
UID:801@boltonstreet.org
DTSTART;TZID=America/New_York:20260502T093000
DTEND;TZID=America/New_York:20260502T101500
DTSTAMP:20260422T145614Z
URL:https://www.boltonstreet.org/events/taking-hold-of-torah-5/
SUMMARY:Taking Hold of Torah
DESCRIPTION:Join Rabbi Gordon on Saturday morning\, May 2\, for Torah Study
 \, Conversation\, Coffee\, and Bagels.\nThis is a Members Only Event. Chec
 k your Email for Registration Information!
ATTACH;FMTTYPE=image/jpeg:https://www.boltonstreet.org/wp-content/uploads/
 2026/04/TakingHold-Web-52.png
CATEGORIES:Adult Education,Learn with Rabbi Gordon,Members Only
END:VEVENT
BEGIN:VTIMEZONE
TZID:America/New_York
X-LIC-LOCATION:America/New_York
BEGIN:DAYLIGHT
DTSTART:20260308T030000
TZOFFSETFROM:-0500
TZOFFSETTO:-0400
TZNAME:EDT
END:DAYLIGHT
END:VTIMEZONE
END:VCALENDAR