BEGIN:VCALENDAR
VERSION:2.0
PRODID:-//wp-events-plugin.com//7.2.3.1//EN
TZID:America/New_York
X-WR-TIMEZONE:America/New_York
BEGIN:VEVENT
UID:799@boltonstreet.org
DTSTART;TZID=America/New_York:20260425T093000
DTEND;TZID=America/New_York:20260425T093000
DTSTAMP:20260420T195325Z
URL:https://www.boltonstreet.org/events/tot-shabbat-2/
SUMMARY:Tot Shabbat
DESCRIPTION:Get ready for Shabbat Morning with Bolton Street Synagogue.\n\n
 Gear towards family with young children\, all are welcome (Grandparents to
 o)!\n\nBring your shakers and instruments.\n\nPlease RSVP if you plan to s
 tay and enjoy bagels with us too.
ATTACH;FMTTYPE=image/jpeg:https://www.boltonstreet.org/wp-content/uploads/
 2026/04/Tot-Shabbat-Web-425.png
CATEGORIES:Family Events,Religious School,Young Family
LOCATION:Bolton Street Synagogue\, 212 West Cold Spring Lane\, Baltimore\, 
 MD\, 21210\, United States
X-APPLE-STRUCTURED-LOCATION;VALUE=URI;X-ADDRESS=212 West Cold Spring Lane\,
  Baltimore\, MD\, 21210\, United States;X-APPLE-RADIUS=100;X-TITLE=Bolton 
 Street Synagogue:geo:0,0
END:VEVENT
BEGIN:VTIMEZONE
TZID:America/New_York
X-LIC-LOCATION:America/New_York
BEGIN:DAYLIGHT
DTSTART:20260308T030000
TZOFFSETFROM:-0500
TZOFFSETTO:-0400
TZNAME:EDT
END:DAYLIGHT
END:VTIMEZONE
END:VCALENDAR